BEGIN:VCALENDAR
VERSION:2.0
PRODID:-//RAMKRISHNA MISSION ASHRAM GOVERNMENT SPONSORED PRIMARY TEACHERS’ TRAINING INSTITUTE - ECPv5.3.0//NONSGML v1.0//EN
CALSCALE:GREGORIAN
METHOD:PUBLISH
X-WR-CALNAME:RAMKRISHNA MISSION ASHRAM GOVERNMENT SPONSORED PRIMARY TEACHERS’ TRAINING INSTITUTE
X-ORIGINAL-URL:https://rkmas.wbptti.in
X-WR-CALDESC:Events for RAMKRISHNA MISSION ASHRAM GOVERNMENT SPONSORED PRIMARY TEACHERS’ TRAINING INSTITUTE
BEGIN:VTIMEZONE
TZID:UTC
BEGIN:STANDARD
TZOFFSETFROM:+0000
TZOFFSETTO:+0000
TZNAME:UTC
DTSTART:20200101T000000
END:STANDARD
END:VTIMEZONE
BEGIN:VEVENT
DTSTART;TZID=UTC:20201104T080000
DTEND;TZID=UTC:20201104T170000
DTSTAMP:20260419T180103
CREATED:20201103T230856Z
LAST-MODIFIED:20201103T230856Z
UID:727-1604476800-1604509200@rkmas.wbptti.in
SUMMARY:OBSERVATION OF VIGILANT WEEK
DESCRIPTION:
URL:https://rkmas.wbptti.in/event/observation-of-vigilant-week/
END:VEVENT
END:VCALENDAR